BEGIN:VCALENDAR
VERSION:2.0
PRODID:-//Parroquia San José Villa Caparra - ECPv6.15.13//NONSGML v1.0//EN
CALSCALE:GREGORIAN
METHOD:PUBLISH
X-ORIGINAL-URL:https://parroquiasanjosepr.org
X-WR-CALDESC:Events for Parroquia San José Villa Caparra
REFRESH-INTERVAL;VALUE=DURATION:PT1H
X-Robots-Tag:noindex
X-PUBLISHED-TTL:PT1H
BEGIN:VTIMEZONE
TZID:UTC
BEGIN:STANDARD
TZOFFSETFROM:+0000
TZOFFSETTO:+0000
TZNAME:UTC
DTSTART:20250101T000000
END:STANDARD
END:VTIMEZONE
BEGIN:VEVENT
DTSTART;TZID=UTC:20260417T170000
DTEND;TZID=UTC:20260417T200000
DTSTAMP:20260423T203332
CREATED:20251126T175917Z
LAST-MODIFIED:20260410T173041Z
UID:31844-1776445200-1776456000@parroquiasanjosepr.org
SUMMARY:Misa y Hora Santa de Adoración\, Sanación y Liberación
DESCRIPTION:Misa y Hora Santa de Adoración\, Sanación y Liberación en el Templo Parroquial\nEste viernes\, 17 de abril de 2026\n5:00 p.m. – Rezo del Santo Rosario\n“Vengan a mí todos los fatigados y agobiados y yo los aliviaré”. (Mt 11\,28)
URL:https://parroquiasanjosepr.org/event/santa-misa-con-bendicion-de-embarazadas-y-criaturas-en-el-vientre-materno/
LOCATION:Parroquia San José Villa Caparra
ATTACH;FMTTYPE=image/jpeg:https://parroquiasanjosepr.org/wp-content/uploads/2023/12/Navidad-iStock-400.jpg
ORGANIZER;CN="Parroquia San Jos%C3%A9 de Villa Caparra":MAILTO:psanjose48@gmail.com
END:VEVENT
END:VCALENDAR